BEGIN:VCALENDAR
VERSION:2.0
PRODID:-//VTAEYC - ECPv6.15.11//NONSGML v1.0//EN
CALSCALE:GREGORIAN
METHOD:PUBLISH
X-WR-CALNAME:VTAEYC
X-ORIGINAL-URL:https://www.vtaeyc.org
X-WR-CALDESC:Events for VTAEYC
REFRESH-INTERVAL;VALUE=DURATION:PT1H
X-Robots-Tag:noindex
X-PUBLISHED-TTL:PT1H
BEGIN:VTIMEZONE
TZID:America/New_York
BEGIN:DAYLIGHT
TZOFFSETFROM:-0500
TZOFFSETTO:-0400
TZNAME:EDT
DTSTART:20250309T070000
END:DAYLIGHT
BEGIN:STANDARD
TZOFFSETFROM:-0400
TZOFFSETTO:-0500
TZNAME:EST
DTSTART:20251102T060000
END:STANDARD
BEGIN:DAYLIGHT
TZOFFSETFROM:-0500
TZOFFSETTO:-0400
TZNAME:EDT
DTSTART:20260308T070000
END:DAYLIGHT
BEGIN:STANDARD
TZOFFSETFROM:-0400
TZOFFSETTO:-0500
TZNAME:EST
DTSTART:20261101T060000
END:STANDARD
BEGIN:DAYLIGHT
TZOFFSETFROM:-0500
TZOFFSETTO:-0400
TZNAME:EDT
DTSTART:20270314T070000
END:DAYLIGHT
BEGIN:STANDARD
TZOFFSETFROM:-0400
TZOFFSETTO:-0500
TZNAME:EST
DTSTART:20271107T060000
END:STANDARD
END:VTIMEZONE
BEGIN:VEVENT
DTSTART;TZID=America/New_York:20260127T130000
DTEND;TZID=America/New_York:20260127T140000
DTSTAMP:20260424T225508
CREATED:20251212T170646Z
LAST-MODIFIED:20251212T170646Z
UID:10000046-1769518800-1769522400@www.vtaeyc.org
SUMMARY:MyTeachstone 1+1+1: From Set Up to Success
DESCRIPTION:Join us for a 1+1+1 MyTeachstone training designed specifically for early childhood program leaders. In this three-part series\, you’ll explore what MyTeachstone can do to support instructional quality\, learn how to set up your program on the platform\, and receive guided support as you get started. After an initial virtual demonstration and walkthrough\, you’ll spend dedicated time during the week setting up your site. We’ll then reconvene for a follow-up session to reflect on the process\, answer questions\, and troubleshoot together. Participants will be entered to win a kodo kids toddler play table or kodo kids preschool discovery ramp set \nDates & Times: Tuesday\, January 27th\, 1:00PM-2:00PM \nTuesday\, February 3rd\,  1:00PM-2:00PM \nTrainer:  Nichole Bearor\, Victoria Ward \nLocation: Zoom \nClick Here to Register
URL:https://www.vtaeyc.org/event/myteachstone-111-from-set-up-to-success/2026-01-27/
CATEGORIES:Our Programs
ATTACH;FMTTYPE=image/jpeg:https://www.vtaeyc.org/wp-content/uploads/2025/12/kari-shea-1SAnrIxw5OY-unsplash.jpg
END:VEVENT
BEGIN:VEVENT
DTSTART;TZID=America/New_York:20260127T180000
DTEND;TZID=America/New_York:20260127T190000
DTSTAMP:20260424T225508
CREATED:20251212T170921Z
LAST-MODIFIED:20251212T171108Z
UID:10000050-1769536800-1769540400@www.vtaeyc.org
SUMMARY:MyTeachstone 1+1+1: From Set Up to Success
DESCRIPTION:Join us for a 1+1+1 MyTeachstone training designed specifically for early childhood program leaders. In this three-part series\, you’ll explore what MyTeachstone can do to support instructional quality\, learn how to set up your program on the platform\, and receive guided support as you get started. After an initial virtual demonstration and walkthrough\, you’ll spend dedicated time during the week setting up your site. We’ll then reconvene for a follow-up session to reflect on the process\, answer questions\, and troubleshoot together. Participants will be entered to win a kodo kids toddler play table or kodo kids preschool discovery ramp set \nDates & Times: Tuesday\, January 27th\, 6:00PM-7:00PM \nTuesday\, February 3rd\,  6:00PM-7:00PM \nTrainer:  Nichole Bearor\, Victoria Ward \nLocation: Zoom \nClick Here to Register
URL:https://www.vtaeyc.org/event/myteachstone-111-from-set-up-to-success-2/2026-01-27/
CATEGORIES:Our Programs
ATTACH;FMTTYPE=image/jpeg:https://www.vtaeyc.org/wp-content/uploads/2025/12/kari-shea-1SAnrIxw5OY-unsplash.jpg
END:VEVENT
END:VCALENDAR