BEGIN:VCALENDAR
VERSION:2.0
PRODID:-//VTAEYC - ECPv6.15.11//NONSGML v1.0//EN
CALSCALE:GREGORIAN
METHOD:PUBLISH
X-ORIGINAL-URL:https://www.vtaeyc.org
X-WR-CALDESC:Events for VTAEYC
REFRESH-INTERVAL;VALUE=DURATION:PT1H
X-Robots-Tag:noindex
X-PUBLISHED-TTL:PT1H
BEGIN:VTIMEZONE
TZID:America/New_York
BEGIN:DAYLIGHT
TZOFFSETFROM:-0500
TZOFFSETTO:-0400
TZNAME:EDT
DTSTART:20250309T070000
END:DAYLIGHT
BEGIN:STANDARD
TZOFFSETFROM:-0400
TZOFFSETTO:-0500
TZNAME:EST
DTSTART:20251102T060000
END:STANDARD
BEGIN:DAYLIGHT
TZOFFSETFROM:-0500
TZOFFSETTO:-0400
TZNAME:EDT
DTSTART:20260308T070000
END:DAYLIGHT
BEGIN:STANDARD
TZOFFSETFROM:-0400
TZOFFSETTO:-0500
TZNAME:EST
DTSTART:20261101T060000
END:STANDARD
BEGIN:DAYLIGHT
TZOFFSETFROM:-0500
TZOFFSETTO:-0400
TZNAME:EDT
DTSTART:20270314T070000
END:DAYLIGHT
BEGIN:STANDARD
TZOFFSETFROM:-0400
TZOFFSETTO:-0500
TZNAME:EST
DTSTART:20271107T060000
END:STANDARD
END:VTIMEZONE
BEGIN:VEVENT
DTSTART;TZID=America/New_York:20260304T130000
DTEND;TZID=America/New_York:20260304T140000
DTSTAMP:20260424T182418
CREATED:20260204T153049Z
LAST-MODIFIED:20260204T180731Z
UID:10000271-1772629200-1772632800@www.vtaeyc.org
SUMMARY:NAEYC Accreditation System Redesign: What Programs Need to Know
DESCRIPTION:NAEYC Accreditation has long set the national standard for high-quality early learning programs. Accreditation signals to families\, educators\, and policymakers that a program prioritizes high-quality learning experiences and continuous improvement. NAEYC has redesigned its accreditation system to better support early learning programs on their path to high-quality early education. The Early Learning Program Quality Assessment and Accreditation System now offers a more inclusive\, flexible\, and streamlined model that reflects the realities of today’s early learning landscape. This new system is more accessible to all program types and aligned with best practices. \nWhether you’re a program seeking accreditation\, a program who is curious to learn more about accreditation\, or a currently accredited program who’d like to learn more about the new system\, SPARQS is here to help you navigate. Join Julie Buechler\, a SPARQS Quality Support Specialist\, to learn more about the NAEYC Accreditation System redesign\, how the redesigned Accreditation system aligns with Vermont’s quality standards (STARS)\, and ways that SPARQS can support your program. \nDates & Time: Wednesday\, March 4\, 2026\, 1:00PM-2:00PM \nTrainer: Julie Buechler \nLocation: Zoom \nClick Here to Register
URL:https://www.vtaeyc.org/event/naeyc-accreditation-system-redesign-what-programs-need-to-know/
CATEGORIES:NAEYC,Our Programs
ATTACH;FMTTYPE=image/jpeg:https://www.vtaeyc.org/wp-content/uploads/2026/02/PXL_20250626_1414162852-scaled.jpg
END:VEVENT
BEGIN:VEVENT
DTSTART;TZID=America/New_York:20260304T180000
DTEND;TZID=America/New_York:20260304T190000
DTSTAMP:20260424T182418
CREATED:20260204T153145Z
LAST-MODIFIED:20260204T180718Z
UID:10000272-1772647200-1772650800@www.vtaeyc.org
SUMMARY:NAEYC Accreditation System Redesign: What Programs Need to Know
DESCRIPTION:NAEYC Accreditation has long set the national standard for high-quality early learning programs. Accreditation signals to families\, educators\, and policymakers that a program prioritizes high-quality learning experiences and continuous improvement. NAEYC has redesigned its accreditation system to better support early learning programs on their path to high-quality early education. The Early Learning Program Quality Assessment and Accreditation System now offers a more inclusive\, flexible\, and streamlined model that reflects the realities of today’s early learning landscape. This new system is more accessible to all program types and aligned with best practices. \nWhether you’re a program seeking accreditation\, a program who is curious to learn more about accreditation\, or a currently accredited program who’d like to learn more about the new system\, SPARQS is here to help you navigate. Join Julie Buechler\, a SPARQS Quality Support Specialist\, to learn more about the NAEYC Accreditation System redesign\, how the redesigned Accreditation system aligns with Vermont’s quality standards (STARS)\, and ways that SPARQS can support your program. \nDates & Time: Wednesday\, March 4\, 2026\, 6:00PM-7:00PM \nTrainer: Julie Buechler \nLocation: Zoom \nClick Here to Register
URL:https://www.vtaeyc.org/event/naeyc-accreditation-system-redesign-what-programs-need-to-know-2/
CATEGORIES:NAEYC,Our Programs
ATTACH;FMTTYPE=image/jpeg:https://www.vtaeyc.org/wp-content/uploads/2026/02/PXL_20250626_1414162852-scaled.jpg
END:VEVENT
BEGIN:VEVENT
DTSTART;TZID=America/New_York:20260310T120000
DTEND;TZID=America/New_York:20260310T133000
DTSTAMP:20260424T182418
CREATED:20260202T143023Z
LAST-MODIFIED:20260202T143024Z
UID:10000257-1773144000-1773149400@www.vtaeyc.org
SUMMARY:Why Recognition Matters and Career Supports
DESCRIPTION:The ECE Profession Bill\, which would establish professional recognition for early childhood educators\, is working its way through Vermont’s Legislature. This professional development workshop provides essential background for early childhood educators who are curious about or just learning about this bill. This series is offered during the day and in the evening\, and all sessions cover the same content. \nParticipants will learn about the field-led initiative that started the conversation\, what to expect during the legislative session\, how educator voices have influenced the bill and can continue to inform the process\, and why professional recognition benefits early childhood educators\, children\, and families. \nThe session will also include information on Career Pathways to Licensure\, exploring how Vermont’s developing pathways connect to the goals of the ECE Profession Bill and support a strong\, professionalized early childhood workforce. \nPresenters will include Rachel Hunter\, Kim Freeman\, Beth Wallace\, and Adiya Kagan (presenter lineup varies by date). \nIf your organization or group would like to request a dedicated presentation on this topic\, please contact Beth Wallace at beth.wallace@vtaeyc.org. \nDate & Time: Tuesday\, March 10\, 2026\, 12:00PM-1:30PM \nTrainer:  Rachel Hunter \nLocation: Zoom \nClick HERE to Register
URL:https://www.vtaeyc.org/event/why-recognition-3/
CATEGORIES:The ECE Profession
ATTACH;FMTTYPE=image/jpeg:https://www.vtaeyc.org/wp-content/uploads/2026/01/IMG_5484.jpg
END:VEVENT
BEGIN:VEVENT
DTSTART;TZID=America/New_York:20260311T180000
DTEND;TZID=America/New_York:20260311T193000
DTSTAMP:20260424T182418
CREATED:20260202T143234Z
LAST-MODIFIED:20260202T143235Z
UID:10000261-1773252000-1773257400@www.vtaeyc.org
SUMMARY:Why Recognition Matters and Career Supports
DESCRIPTION:The ECE Profession Bill\, which would establish professional recognition for early childhood educators\, is working its way through Vermont’s Legislature. This professional development workshop provides essential background for early childhood educators who are curious about or just learning about this bill. This series is offered during the day and in the evening\, and all sessions cover the same content. \nParticipants will learn about the field-led initiative that started the conversation\, what to expect during the legislative session\, how educator voices have influenced the bill and can continue to inform the process\, and why professional recognition benefits early childhood educators\, children\, and families. \nThe session will also include information on Career Pathways to Licensure\, exploring how Vermont’s developing pathways connect to the goals of the ECE Profession Bill and support a strong\, professionalized early childhood workforce. \nPresenters will include Rachel Hunter\, Kim Freeman\, Beth Wallace\, and Adiya Kagan (presenter lineup varies by date). \nIf your organization or group would like to request a dedicated presentation on this topic\, please contact Beth Wallace at beth.wallace@vtaeyc.org. \nDate & Time: Wednesday\, March 11\, 2026\, 6:00PM-7:30PM \nTrainer: Kim Freeman \nLocation: Zoom \nClick HERE to Register
URL:https://www.vtaeyc.org/event/why-recognition-matter-and-career-supports-3/
CATEGORIES:The ECE Profession
ATTACH;FMTTYPE=image/jpeg:https://www.vtaeyc.org/wp-content/uploads/2026/01/IMG_5482.jpg
END:VEVENT
BEGIN:VEVENT
DTSTART;TZID=America/New_York:20260319T180000
DTEND;TZID=America/New_York:20260319T200000
DTSTAMP:20260424T182418
CREATED:20260223T145242Z
LAST-MODIFIED:20260223T145242Z
UID:10000276-1773943200-1773950400@www.vtaeyc.org
SUMMARY:Addison Evening Network Training: Brain Based Responses to Challenging Behavior
DESCRIPTION:Challenging behavior can be extremely frustrating\, especially when our usual tricks aren’t working. In this training\, we will peek into the brains of children whose behavior adults find challenging and discover how their nervous systems may be driving their behavior. Then\, through this new lens\, we will explore brain-based approaches to prevent and address challenging behavior. We will also consider how our own nervous systems might be working against us during these moments and discuss ways to keep ourselves regulated in order to respond more helpfully to challenging behaviors. \nThis is an Addison Evening Network Training. If you are interested in joining the Addison Evening Network\, please select the appropriate option within the question: “Are you a member of the Addison Evening Network?” \nDates & Times: March 19\, 2026\, 6:00PM-8:00PM \nTrainer:  Aricha Gilpatrick Drury \nLocation: Zoom \nClick Here to Register
URL:https://www.vtaeyc.org/event/addison-evening-network-training-brain-based-responses-to-challenging-behavior/
CATEGORIES:Our Programs
ATTACH;FMTTYPE=image/jpeg:https://www.vtaeyc.org/wp-content/uploads/2026/02/xavi-cabrera-_-uN7DbAE-o-unsplash.jpg
END:VEVENT
BEGIN:VEVENT
DTSTART;TZID=America/New_York:20260326T130000
DTEND;TZID=America/New_York:20260326T140000
DTSTAMP:20260424T182418
CREATED:20260203T145614Z
LAST-MODIFIED:20260203T145614Z
UID:10000266-1774530000-1774533600@www.vtaeyc.org
SUMMARY:MyTeachstone 1+1+1: From Set Up to Success (Afternoon Session)
DESCRIPTION:Join us for a 1+1+1 MyTeachstone training designed specifically for early childhood program leaders. In this three-part series\, you’ll explore what MyTeachstone can do to support instructional quality\, learn how to set up your program on the platform\, and receive guided support as you get started. After an initial virtual demonstration and walkthrough\, you’ll spend dedicated time during the week setting up your site. We’ll then reconvene for a follow-up session to reflect on the process\, answer questions\, and troubleshoot together. \nDates & Times: Thursday\, March 26th\, 1:00PM-2:00PM \nThursday\, April 2nd\,  1:00PM-2:00PM \nTrainer:  Nichole Bearor\, Victoria Ward \nLocation: Zoom \nClick Here to Register
URL:https://www.vtaeyc.org/event/myteachstone-111-from-set-up-to-success-afternoon-session/
CATEGORIES:Our Programs
ATTACH;FMTTYPE=image/jpeg:https://www.vtaeyc.org/wp-content/uploads/2025/12/kari-shea-1SAnrIxw5OY-unsplash.jpg
END:VEVENT
BEGIN:VEVENT
DTSTART;TZID=America/New_York:20260326T180000
DTEND;TZID=America/New_York:20260326T190000
DTSTAMP:20260424T182418
CREATED:20260203T150329Z
LAST-MODIFIED:20260203T150329Z
UID:10000267-1774548000-1774551600@www.vtaeyc.org
SUMMARY:MyTeachstone 1+1+1: From Set Up to Success (Evening Session)
DESCRIPTION:Join us for a 1+1+1 MyTeachstone training designed specifically for early childhood program leaders. In this three-part series\, you’ll explore what MyTeachstone can do to support instructional quality\, learn how to set up your program on the platform\, and receive guided support as you get started. After an initial virtual demonstration and walkthrough\, you’ll spend dedicated time during the week setting up your site. We’ll then reconvene for a follow-up session to reflect on the process\, answer questions\, and troubleshoot together. \nDates & Times: Thursday\, March 26th\, 6:00PM-7:00PM \nThursday\, April 2nd\,  6:00PM-7:00PM \nTrainer:  Nichole Bearor\, Victoria Ward \nLocation: Zoom \nClick Here to Register
URL:https://www.vtaeyc.org/event/myteachstone-111-from-set-up-to-success-evening-session/
CATEGORIES:Our Programs
ATTACH;FMTTYPE=image/jpeg:https://www.vtaeyc.org/wp-content/uploads/2025/12/kari-shea-1SAnrIxw5OY-unsplash.jpg
END:VEVENT
END:VCALENDAR