BEGIN:VCALENDAR
VERSION:2.0
PRODID:-//VTAEYC - ECPv6.15.11//NONSGML v1.0//EN
CALSCALE:GREGORIAN
METHOD:PUBLISH
X-WR-CALNAME:VTAEYC
X-ORIGINAL-URL:https://www.vtaeyc.org
X-WR-CALDESC:Events for VTAEYC
REFRESH-INTERVAL;VALUE=DURATION:PT1H
X-Robots-Tag:noindex
X-PUBLISHED-TTL:PT1H
BEGIN:VTIMEZONE
TZID:America/New_York
BEGIN:DAYLIGHT
TZOFFSETFROM:-0500
TZOFFSETTO:-0400
TZNAME:EDT
DTSTART:20250309T070000
END:DAYLIGHT
BEGIN:STANDARD
TZOFFSETFROM:-0400
TZOFFSETTO:-0500
TZNAME:EST
DTSTART:20251102T060000
END:STANDARD
BEGIN:DAYLIGHT
TZOFFSETFROM:-0500
TZOFFSETTO:-0400
TZNAME:EDT
DTSTART:20260308T070000
END:DAYLIGHT
BEGIN:STANDARD
TZOFFSETFROM:-0400
TZOFFSETTO:-0500
TZNAME:EST
DTSTART:20261101T060000
END:STANDARD
BEGIN:DAYLIGHT
TZOFFSETFROM:-0500
TZOFFSETTO:-0400
TZNAME:EDT
DTSTART:20270314T070000
END:DAYLIGHT
BEGIN:STANDARD
TZOFFSETFROM:-0400
TZOFFSETTO:-0500
TZNAME:EST
DTSTART:20271107T060000
END:STANDARD
END:VTIMEZONE
BEGIN:VEVENT
DTSTART;TZID=America/New_York:20260415T180000
DTEND;TZID=America/New_York:20260415T200000
DTSTAMP:20260424T152547
CREATED:20260204T150610Z
LAST-MODIFIED:20260204T150724Z
UID:10000270-1776276000-1776283200@www.vtaeyc.org
SUMMARY:Rutland Network Training: Environments for Learning: Science!
DESCRIPTION:This is a Rutland Network training. If you are interested in joining the Rutland Network or a different Vermont Early Childhood Network\, please select the appropriate option when you register. \nIs your science area lacking opportunities for independent exploration and investigation? In this session\, we will discuss creating a learning environment supporting scientific thinking. \nDate & Time: Wednesday\, April 15\, 2026\, 6:00PM- 8:00PM \nTrainer: Carrie Becker \nLocation: Rutland\, VT- Exact location shared in confirmation email. \nClick Here to Register
URL:https://www.vtaeyc.org/event/rutland-network-training-environments-for-learning-science/
LOCATION:VT
CATEGORIES:Our Programs
ATTACH;FMTTYPE=image/jpeg:https://www.vtaeyc.org/wp-content/uploads/2026/02/clint-patterson-CgIFBwOkApI-unsplash-scaled.jpg
END:VEVENT
END:VCALENDAR