BEGIN:VCALENDAR
VERSION:2.0
PRODID:-//VTAEYC - ECPv6.15.11//NONSGML v1.0//EN
CALSCALE:GREGORIAN
METHOD:PUBLISH
X-ORIGINAL-URL:https://www.vtaeyc.org
X-WR-CALDESC:Events for VTAEYC
REFRESH-INTERVAL;VALUE=DURATION:PT1H
X-Robots-Tag:noindex
X-PUBLISHED-TTL:PT1H
BEGIN:VTIMEZONE
TZID:America/New_York
BEGIN:DAYLIGHT
TZOFFSETFROM:-0500
TZOFFSETTO:-0400
TZNAME:EDT
DTSTART:20250309T070000
END:DAYLIGHT
BEGIN:STANDARD
TZOFFSETFROM:-0400
TZOFFSETTO:-0500
TZNAME:EST
DTSTART:20251102T060000
END:STANDARD
BEGIN:DAYLIGHT
TZOFFSETFROM:-0500
TZOFFSETTO:-0400
TZNAME:EDT
DTSTART:20260308T070000
END:DAYLIGHT
BEGIN:STANDARD
TZOFFSETFROM:-0400
TZOFFSETTO:-0500
TZNAME:EST
DTSTART:20261101T060000
END:STANDARD
BEGIN:DAYLIGHT
TZOFFSETFROM:-0500
TZOFFSETTO:-0400
TZNAME:EDT
DTSTART:20270314T070000
END:DAYLIGHT
BEGIN:STANDARD
TZOFFSETFROM:-0400
TZOFFSETTO:-0500
TZNAME:EST
DTSTART:20271107T060000
END:STANDARD
END:VTIMEZONE
BEGIN:VEVENT
DTSTART;TZID=America/New_York:20260126T180000
DTEND;TZID=America/New_York:20260126T200000
DTSTAMP:20260424T194347
CREATED:20251203T195740Z
LAST-MODIFIED:20251203T195740Z
UID:10000008-1769450400-1769457600@www.vtaeyc.org
SUMMARY:Introduction to the 2nd Edition Pre-K CLASS Tool
DESCRIPTION:In this interactive session\, participants will deepen their understanding of the Pre-K CLASS 2nd Edition. Educators will explore the structure of the tool\, learn to describe its domains and key behaviors\, and discuss what high-quality interactions look like in preschool settings. Through hands-on activities and real-world scenarios\, participants will practice identifying the effective strategies they already use and develop shared language to describe and strengthen responsive teaching practices. \nThis training is a closed training to the Rutland Network. To attend this series\, please join the network by emailing Michelle and Lisa at rutlandcountyecenetwork@gmail.com \nDates & Times: January 26\, 2026\, 6:00PM-8:00PM \nTrainers:  Nichole Bearor\, Emily Lambert\, Krysta Griffith \nLocation: Zoom \nClick Here to Register
URL:https://www.vtaeyc.org/event/introduction-to-the-2nd-edition-pre-k-class-tool/
LOCATION:VT
CATEGORIES:Our Programs,Vermont Early Childhood
ATTACH;FMTTYPE=image/jpeg:https://www.vtaeyc.org/wp-content/uploads/2025/12/AdobeStock_372050630-1.jpeg
END:VEVENT
END:VCALENDAR