BEGIN:VCALENDAR
VERSION:2.0
PRODID:-//VTAEYC - ECPv6.15.11//NONSGML v1.0//EN
CALSCALE:GREGORIAN
METHOD:PUBLISH
X-ORIGINAL-URL:https://www.vtaeyc.org
X-WR-CALDESC:Events for VTAEYC
REFRESH-INTERVAL;VALUE=DURATION:PT1H
X-Robots-Tag:noindex
X-PUBLISHED-TTL:PT1H
BEGIN:VTIMEZONE
TZID:America/New_York
BEGIN:DAYLIGHT
TZOFFSETFROM:-0500
TZOFFSETTO:-0400
TZNAME:EDT
DTSTART:20250309T070000
END:DAYLIGHT
BEGIN:STANDARD
TZOFFSETFROM:-0400
TZOFFSETTO:-0500
TZNAME:EST
DTSTART:20251102T060000
END:STANDARD
BEGIN:DAYLIGHT
TZOFFSETFROM:-0500
TZOFFSETTO:-0400
TZNAME:EDT
DTSTART:20260308T070000
END:DAYLIGHT
BEGIN:STANDARD
TZOFFSETFROM:-0400
TZOFFSETTO:-0500
TZNAME:EST
DTSTART:20261101T060000
END:STANDARD
BEGIN:DAYLIGHT
TZOFFSETFROM:-0500
TZOFFSETTO:-0400
TZNAME:EDT
DTSTART:20270314T070000
END:DAYLIGHT
BEGIN:STANDARD
TZOFFSETFROM:-0400
TZOFFSETTO:-0500
TZNAME:EST
DTSTART:20271107T060000
END:STANDARD
END:VTIMEZONE
BEGIN:VEVENT
DTSTART;TZID=America/New_York:20260319T180000
DTEND;TZID=America/New_York:20260319T190000
DTSTAMP:20260419T111026
CREATED:20260202T192636Z
LAST-MODIFIED:20260202T192715Z
UID:10000265-1773943200-1773946800@www.vtaeyc.org
SUMMARY:Preschool Network Training Series: Responsive and Proactive Self-Regulation in PreK
DESCRIPTION:This is a Preschool Network training series. If you are interested in joining the Preschool Network or a different Vermont Early Childhood Network\, please select the appropriate option when you register. \nIn this workshop educators will analyze self-regulation from a developmental lens\, to understand and assess neuroinclusive strategies to use for all students. This will include strategies for the skills of planning/prioritization & problem solving as well as using problem solving language as an anchor. \nDate & Time: Thursday\, March 19\, 2026\, 6:00PM- 7:00PM \nThursday\, May 21\, 2026\, 6:00PM- 7:00PM \nTrainer:  Danielle Kent \nLocation: Zoom \nClick Here to Register
URL:https://www.vtaeyc.org/event/preschool-network-training-responsive-and-proactive-self-regulation-in-prek/
CATEGORIES:Our Programs
ATTACH;FMTTYPE=image/jpeg:https://www.vtaeyc.org/wp-content/uploads/2026/02/randy-lin-FN_00mJ4coc-unsplash.jpg
END:VEVENT
END:VCALENDAR