BEGIN:VCALENDAR
VERSION:2.0
PRODID:-//VTAEYC - ECPv6.15.11//NONSGML v1.0//EN
CALSCALE:GREGORIAN
METHOD:PUBLISH
X-WR-CALNAME:VTAEYC
X-ORIGINAL-URL:https://www.vtaeyc.org
X-WR-CALDESC:Events for VTAEYC
REFRESH-INTERVAL;VALUE=DURATION:PT1H
X-Robots-Tag:noindex
X-PUBLISHED-TTL:PT1H
BEGIN:VTIMEZONE
TZID:America/New_York
BEGIN:DAYLIGHT
TZOFFSETFROM:-0500
TZOFFSETTO:-0400
TZNAME:EDT
DTSTART:20250309T070000
END:DAYLIGHT
BEGIN:STANDARD
TZOFFSETFROM:-0400
TZOFFSETTO:-0500
TZNAME:EST
DTSTART:20251102T060000
END:STANDARD
BEGIN:DAYLIGHT
TZOFFSETFROM:-0500
TZOFFSETTO:-0400
TZNAME:EDT
DTSTART:20260308T070000
END:DAYLIGHT
BEGIN:STANDARD
TZOFFSETFROM:-0400
TZOFFSETTO:-0500
TZNAME:EST
DTSTART:20261101T060000
END:STANDARD
BEGIN:DAYLIGHT
TZOFFSETFROM:-0500
TZOFFSETTO:-0400
TZNAME:EDT
DTSTART:20270314T070000
END:DAYLIGHT
BEGIN:STANDARD
TZOFFSETFROM:-0400
TZOFFSETTO:-0500
TZNAME:EST
DTSTART:20271107T060000
END:STANDARD
END:VTIMEZONE
BEGIN:VEVENT
DTSTART;TZID=America/New_York:20260108T180000
DTEND;TZID=America/New_York:20260108T200000
DTSTAMP:20260424T223740
CREATED:20251219T185628Z
LAST-MODIFIED:20251219T185824Z
UID:10000058-1767895200-1767902400@www.vtaeyc.org
SUMMARY:Bringing Learning Alive This Winter
DESCRIPTION:Winter can feel long and overwhelming\, but your winter curriculum planning doesn’t have to! Join us for this interactive\, idea-packed workshop designed to keep young children (ages 2–6) engaged\, curious\, and learning all season long.\nTogether\, we’ll:\nExplore engaging winter activity ideas that align with the Vermont Early Learning Standards\nParticipate in breakout room brainstorms organized by content areas (math\, literacy\, science\, the arts\, and more)\nCo-create a ready-to-use resource you can bring back to your classroom the very next day; and also receive a detailed “Wonders of Winter” integrated curriculum unit created by April Zajko\nTake the overwhelm out of winter planning with practical\, developmentally appropriate ideas that spark joy and learning\nThis engaging session will leave you with fresh inspiration\, a supportive network of peers\, and a toolkit of winter-ready activities to keep your classroom thriving through the coldest months of the year. \nDate & Time: January 8\, 2026\,  6:00PM-:800PM \nTrainer: April Zajko \nLocation: Zoom \nClick Here to Register
URL:https://www.vtaeyc.org/event/bringing-learning-alive-this-winter/
CATEGORIES:Our Programs,Vermont Early Childhood
ATTACH;FMTTYPE=image/jpeg:https://www.vtaeyc.org/wp-content/uploads/2025/12/stephen-andrews-DdOvzdw1zsQ-unsplash.jpg
END:VEVENT
BEGIN:VEVENT
DTSTART;TZID=America/New_York:20260113T180000
DTEND;TZID=America/New_York:20260113T200000
DTSTAMP:20260424T223740
CREATED:20251209T161901Z
LAST-MODIFIED:20251209T161901Z
UID:10000044-1768327200-1768334400@www.vtaeyc.org
SUMMARY:Reintroducing Nursery Rhymes
DESCRIPTION:This training will be an interactive workshop. There is so much wonderful literature out there for young children\, but how often do you include nursery rhymes? I realized that I could not remember a recent time in a classroom or when I was enjoying those great short nursery rhymes. We will be using some of the advice from Becky Bailey’s book: “I love you rituals.” I will bring two books: Mother Goose and A treasury of Nursery Rhymes.\nPlease bring Becky Baileys book if you have it and any nursery rhyme books you may have in your closets. If there are different “rhyming” songs” you may use like: open\, shut them\, we will remind each other of the ones we may have forgotten. \nThis training series is closed to the Concord Network. If you are interested in joining the Concord Network\, please select the appropriate option within the question: “Are you a member of the Concord Network?” \nDates & Times: January 13\, 2026\, 6:00PM-8:00PM \nTrainer:  Jackie Sprague \nLocation: Zoom \nClick Here to Register
URL:https://www.vtaeyc.org/event/reintroducing-nursery-rhymes/
CATEGORIES:Our Programs,Vermont Early Childhood
ATTACH;FMTTYPE=image/jpeg:https://www.vtaeyc.org/wp-content/uploads/2025/12/vladimir-haltakov-ya0A6x3Cx7o-unsplash-scaled.jpg
END:VEVENT
BEGIN:VEVENT
DTSTART;TZID=America/New_York:20260115T180000
DTEND;TZID=America/New_York:20260115T190000
DTSTAMP:20260424T223740
CREATED:20251219T155623Z
LAST-MODIFIED:20251219T155648Z
UID:10000053-1768500000-1768503600@www.vtaeyc.org
SUMMARY:The Blue Brain - Being Male\, Young & Energetic
DESCRIPTION:Let’s debunk bad science. The male vs. female brain “research” is filled with myths. Most of the differences in development are the result of nurture not nature. This presentation will examine the few innate differences in male and female brains then go on to look at how parents\, peers and society influence the wiring of our most complex system. The program concludes by asking if “Rough and Tumble Play” belongs in childhood and offers time for action steps in addressing the blue brain. \nDates & Time: January 15\, 2026\,  6:00PM-7:00PM \nFebruary 19\, 2026\,  6:00PM-7:00PM \nTrainer: Scott Noyes \nLocation: Zoom \nClick Here to Register
URL:https://www.vtaeyc.org/event/thebluebrain/2026-01-15/
CATEGORIES:Our Programs,Vermont Early Childhood
ATTACH;FMTTYPE=image/jpeg:https://www.vtaeyc.org/wp-content/uploads/2025/12/segun-osunyomi-3BztcJxliEM-unsplash.jpg
END:VEVENT
BEGIN:VEVENT
DTSTART;TZID=America/New_York:20260121T180000
DTEND;TZID=America/New_York:20260121T200000
DTSTAMP:20260424T223740
CREATED:20251203T194908Z
LAST-MODIFIED:20251203T194908Z
UID:10000006-1769018400-1769025600@www.vtaeyc.org
SUMMARY:The Reggio Inspired Classroom: Supporting Children with Special Rights
DESCRIPTION:The Reggio Inspired Classroom: Supporting Children with Special Rights \nOne of the basic tenets of the schools of Reggio Emilia is that including\, accepting\, and valuing students with special rights (disabilities) within the learning community improves the practice of teachers. During this session we will examine how to use the Reggio Emilia approach of teaching and learning to provide an inclusive learning environment for all children. \nThis training is a closed training to the Brattleboro Network. To attend this training\, please join the network by emailing Melissa Mroz-Gaskill and Jessica Farquhar at missymg64@gmail.com and jaf122407@gmail.com \nDate & Time: January 21\, 2026\, 6:00PM- 8:00PM \nTrainer: Carrie Becker \nLocation:  Zoom \nClick Here to Register
URL:https://www.vtaeyc.org/event/the-reggio-inspired-classroom-supporting-children-with-special-rights/
CATEGORIES:Our Programs,Vermont Early Childhood
ATTACH;FMTTYPE=image/jpeg:https://www.vtaeyc.org/wp-content/uploads/2025/08/jerry-wang-RwCP91RwZeM-unsplash-scaled.jpg
END:VEVENT
BEGIN:VEVENT
DTSTART;TZID=America/New_York:20260126T180000
DTEND;TZID=America/New_York:20260126T200000
DTSTAMP:20260424T223740
CREATED:20251203T195740Z
LAST-MODIFIED:20251203T195740Z
UID:10000008-1769450400-1769457600@www.vtaeyc.org
SUMMARY:Introduction to the 2nd Edition Pre-K CLASS Tool
DESCRIPTION:In this interactive session\, participants will deepen their understanding of the Pre-K CLASS 2nd Edition. Educators will explore the structure of the tool\, learn to describe its domains and key behaviors\, and discuss what high-quality interactions look like in preschool settings. Through hands-on activities and real-world scenarios\, participants will practice identifying the effective strategies they already use and develop shared language to describe and strengthen responsive teaching practices. \nThis training is a closed training to the Rutland Network. To attend this series\, please join the network by emailing Michelle and Lisa at rutlandcountyecenetwork@gmail.com \nDates & Times: January 26\, 2026\, 6:00PM-8:00PM \nTrainers:  Nichole Bearor\, Emily Lambert\, Krysta Griffith \nLocation: Zoom \nClick Here to Register
URL:https://www.vtaeyc.org/event/introduction-to-the-2nd-edition-pre-k-class-tool/
CATEGORIES:Our Programs,Vermont Early Childhood
ATTACH;FMTTYPE=image/jpeg:https://www.vtaeyc.org/wp-content/uploads/2025/12/AdobeStock_372050630-1.jpeg
END:VEVENT
END:VCALENDAR