BEGIN:VCALENDAR
VERSION:2.0
PRODID:-//VTAEYC - ECPv6.15.11//NONSGML v1.0//EN
CALSCALE:GREGORIAN
METHOD:PUBLISH
X-WR-CALNAME:VTAEYC
X-ORIGINAL-URL:https://www.vtaeyc.org
X-WR-CALDESC:Events for VTAEYC
REFRESH-INTERVAL;VALUE=DURATION:PT1H
X-Robots-Tag:noindex
X-PUBLISHED-TTL:PT1H
BEGIN:VTIMEZONE
TZID:America/New_York
BEGIN:DAYLIGHT
TZOFFSETFROM:-0500
TZOFFSETTO:-0400
TZNAME:EDT
DTSTART:20250309T070000
END:DAYLIGHT
BEGIN:STANDARD
TZOFFSETFROM:-0400
TZOFFSETTO:-0500
TZNAME:EST
DTSTART:20251102T060000
END:STANDARD
BEGIN:DAYLIGHT
TZOFFSETFROM:-0500
TZOFFSETTO:-0400
TZNAME:EDT
DTSTART:20260308T070000
END:DAYLIGHT
BEGIN:STANDARD
TZOFFSETFROM:-0400
TZOFFSETTO:-0500
TZNAME:EST
DTSTART:20261101T060000
END:STANDARD
BEGIN:DAYLIGHT
TZOFFSETFROM:-0500
TZOFFSETTO:-0400
TZNAME:EDT
DTSTART:20270314T070000
END:DAYLIGHT
BEGIN:STANDARD
TZOFFSETFROM:-0400
TZOFFSETTO:-0500
TZNAME:EST
DTSTART:20271107T060000
END:STANDARD
END:VTIMEZONE
BEGIN:VEVENT
DTSTART;TZID=America/New_York:20260113T180000
DTEND;TZID=America/New_York:20260113T200000
DTSTAMP:20260424T215331
CREATED:20251209T161901Z
LAST-MODIFIED:20251209T161901Z
UID:10000044-1768327200-1768334400@www.vtaeyc.org
SUMMARY:Reintroducing Nursery Rhymes
DESCRIPTION:This training will be an interactive workshop. There is so much wonderful literature out there for young children\, but how often do you include nursery rhymes? I realized that I could not remember a recent time in a classroom or when I was enjoying those great short nursery rhymes. We will be using some of the advice from Becky Bailey’s book: “I love you rituals.” I will bring two books: Mother Goose and A treasury of Nursery Rhymes.\nPlease bring Becky Baileys book if you have it and any nursery rhyme books you may have in your closets. If there are different “rhyming” songs” you may use like: open\, shut them\, we will remind each other of the ones we may have forgotten. \nThis training series is closed to the Concord Network. If you are interested in joining the Concord Network\, please select the appropriate option within the question: “Are you a member of the Concord Network?” \nDates & Times: January 13\, 2026\, 6:00PM-8:00PM \nTrainer:  Jackie Sprague \nLocation: Zoom \nClick Here to Register
URL:https://www.vtaeyc.org/event/reintroducing-nursery-rhymes/
CATEGORIES:Our Programs,Vermont Early Childhood
ATTACH;FMTTYPE=image/jpeg:https://www.vtaeyc.org/wp-content/uploads/2025/12/vladimir-haltakov-ya0A6x3Cx7o-unsplash-scaled.jpg
END:VEVENT
BEGIN:VEVENT
DTSTART;TZID=America/New_York:20260122T180000
DTEND;TZID=America/New_York:20260122T200000
DTSTAMP:20260424T215331
CREATED:20251203T195415Z
LAST-MODIFIED:20251203T195415Z
UID:10000007-1769104800-1769112000@www.vtaeyc.org
SUMMARY:Introduction to the 2nd Edition Infant/Toddler CLASS Tool
DESCRIPTION:In this interactive session\, participants will deepen their understanding of the Infant/Toddler CLASS 2nd Edition. Educators will explore the structure of the tool\, learn to describe its domains and key behaviors\, and discuss what high-quality interactions look like in infant and toddler settings. Through hands-on activities and real-world scenarios\, participants will practice identifying the effective strategies they already use and develop shared language to describe and strengthen responsive teaching practices. \nThis training is a closed training to the Rutland Network. To attend this series\, please join the network by emailing Michelle and Lisa at rutlandcountyecenetwork@gmail.com \nDates & Times: January 22\, 2026\, 6:00PM-8:00PM \nTrainers:  Nichole Bearor\, Emily Lambert\, Krysta Griffith \nLocation: Zoom \nClick Here to Register
URL:https://www.vtaeyc.org/event/introduction-to-the-2nd-edition-infant-toddler-class-tool/
CATEGORIES:Our Programs,Vermont Early Childhood
ATTACH;FMTTYPE=image/jpeg:https://www.vtaeyc.org/wp-content/uploads/2025/11/troy-t-WA2EE7YtzC4-unsplash.jpg
END:VEVENT
END:VCALENDAR