BEGIN:VCALENDAR
VERSION:2.0
PRODID:-//VTAEYC - ECPv6.15.11//NONSGML v1.0//EN
CALSCALE:GREGORIAN
METHOD:PUBLISH
X-WR-CALNAME:VTAEYC
X-ORIGINAL-URL:https://www.vtaeyc.org
X-WR-CALDESC:Events for VTAEYC
REFRESH-INTERVAL;VALUE=DURATION:PT1H
X-Robots-Tag:noindex
X-PUBLISHED-TTL:PT1H
BEGIN:VTIMEZONE
TZID:America/New_York
BEGIN:DAYLIGHT
TZOFFSETFROM:-0500
TZOFFSETTO:-0400
TZNAME:EDT
DTSTART:20250309T070000
END:DAYLIGHT
BEGIN:STANDARD
TZOFFSETFROM:-0400
TZOFFSETTO:-0500
TZNAME:EST
DTSTART:20251102T060000
END:STANDARD
BEGIN:DAYLIGHT
TZOFFSETFROM:-0500
TZOFFSETTO:-0400
TZNAME:EDT
DTSTART:20260308T070000
END:DAYLIGHT
BEGIN:STANDARD
TZOFFSETFROM:-0400
TZOFFSETTO:-0500
TZNAME:EST
DTSTART:20261101T060000
END:STANDARD
BEGIN:DAYLIGHT
TZOFFSETFROM:-0500
TZOFFSETTO:-0400
TZNAME:EDT
DTSTART:20270314T070000
END:DAYLIGHT
BEGIN:STANDARD
TZOFFSETFROM:-0400
TZOFFSETTO:-0500
TZNAME:EST
DTSTART:20271107T060000
END:STANDARD
END:VTIMEZONE
BEGIN:VEVENT
DTSTART;TZID=America/New_York:20260108T180000
DTEND;TZID=America/New_York:20260108T200000
DTSTAMP:20260424T182548
CREATED:20251203T153012Z
LAST-MODIFIED:20251203T153059Z
UID:10000005-1767895200-1767902400@www.vtaeyc.org
SUMMARY:CoP: The Practice of Self-Care for Early Childhood Professionals
DESCRIPTION:Happy teachers have happy students\, and happy students have happy families. We can’t be in the classroom in our full capacity to teach and care for our kids if we are not in our full capacity ourselves. In this six-session CoP\, participants will explore ways to incorporate self-care into their daily lives. Some topics we will discuss include nature journals\, relaxation techniques\, creative outlets and so much more! \nThis Community of Practice is closed to the Washington 2 Network. To attend this CoP\, please join the network by emailing Alexandria Whitcomb at alexandria.whitcomb@gmail.com \nDates & Time:  \n\nThursday\, January 8\, 2026\, 2026\, 6:00PM- 8:00PM\nThursday\, February 5\, 2026\, 6:00PM- 8:00PM\nThursday\, March 5\, 2026\, 6:00PM- 8:00PM\nThursday\, April 2\, 2026\, 6:00PM- 8:00PM\nThursday\, May 7\, 2026\, 6:00PM- 8:00PM\nThursday\, June 4\, 2026\, 6:00PM- 8:00PM\n\nTrainer: Carrie Becker \nLocation: Graniteville\, VT\, 05654\, exact location will be shared in the confirmation email. \nClick Here to Register.
URL:https://www.vtaeyc.org/event/cop-the-practice-of-self-care-for-early-childhood-professionals/
CATEGORIES:Our Programs,Vermont Early Childhood
END:VEVENT
END:VCALENDAR