BEGIN:VCALENDAR
VERSION:2.0
PRODID:-//VTAEYC - ECPv6.15.11//NONSGML v1.0//EN
CALSCALE:GREGORIAN
METHOD:PUBLISH
X-ORIGINAL-URL:https://www.vtaeyc.org
X-WR-CALDESC:Events for VTAEYC
REFRESH-INTERVAL;VALUE=DURATION:PT1H
X-Robots-Tag:noindex
X-PUBLISHED-TTL:PT1H
BEGIN:VTIMEZONE
TZID:America/New_York
BEGIN:DAYLIGHT
TZOFFSETFROM:-0500
TZOFFSETTO:-0400
TZNAME:EDT
DTSTART:20250309T070000
END:DAYLIGHT
BEGIN:STANDARD
TZOFFSETFROM:-0400
TZOFFSETTO:-0500
TZNAME:EST
DTSTART:20251102T060000
END:STANDARD
BEGIN:DAYLIGHT
TZOFFSETFROM:-0500
TZOFFSETTO:-0400
TZNAME:EDT
DTSTART:20260308T070000
END:DAYLIGHT
BEGIN:STANDARD
TZOFFSETFROM:-0400
TZOFFSETTO:-0500
TZNAME:EST
DTSTART:20261101T060000
END:STANDARD
BEGIN:DAYLIGHT
TZOFFSETFROM:-0500
TZOFFSETTO:-0400
TZNAME:EDT
DTSTART:20270314T070000
END:DAYLIGHT
BEGIN:STANDARD
TZOFFSETFROM:-0400
TZOFFSETTO:-0500
TZNAME:EST
DTSTART:20271107T060000
END:STANDARD
END:VTIMEZONE
BEGIN:VEVENT
DTSTART;TZID=America/New_York:20260414T183000
DTEND;TZID=America/New_York:20260414T200000
DTSTAMP:20260424T194258
CREATED:20260304T184823Z
LAST-MODIFIED:20260304T184907Z
UID:10000278-1776191400-1776196800@www.vtaeyc.org
SUMMARY:Addison Network: "Tiny Humans\, Big Emotions" Book Talk with Author Alyssa Blask-Campbell
DESCRIPTION:In this engaging session\, New York Times best-selling author Alyssa Blask-Campbell brings the core ideas of Tiny Humans\, Big Emotions to life. Grounded in neuroscience and practical experience\, this workshop reframes young children’s behavior through the lens of nervous system regulation and emotional development.\nParticipants will leave with clear\, actionable strategies for co-regulation\, boundary-setting\, and responding to big feelings in ways that build connection and resilience. Designed for parents\, educators\, and practitioners\, the tools shared can be implemented immediately in both home and classroom settings.\nAttendees will receive a copy of the book and have an opportunity to ask questions of the author. \nDate & Time: April 14\, 2026\,  6:30PM-8:00PM \nTrainers:  Alyssa Blask-Campbell \nLocation: Middlebury\, VT \nClick Here to Register
URL:https://www.vtaeyc.org/event/tiny-humans-big-emotions-book-talk-with-author-alyssa-blask-campbell/
CATEGORIES:Our Programs
ATTACH;FMTTYPE=image/webp:https://www.vtaeyc.org/wp-content/uploads/2026/03/TinyHumans-scaled.webp
END:VEVENT
END:VCALENDAR