BEGIN:VCALENDAR
VERSION:2.0
PRODID:-//VTAEYC - ECPv6.15.11//NONSGML v1.0//EN
CALSCALE:GREGORIAN
METHOD:PUBLISH
X-WR-CALNAME:VTAEYC
X-ORIGINAL-URL:https://www.vtaeyc.org
X-WR-CALDESC:Events for VTAEYC
REFRESH-INTERVAL;VALUE=DURATION:PT1H
X-Robots-Tag:noindex
X-PUBLISHED-TTL:PT1H
BEGIN:VTIMEZONE
TZID:America/New_York
BEGIN:DAYLIGHT
TZOFFSETFROM:-0500
TZOFFSETTO:-0400
TZNAME:EDT
DTSTART:20250309T070000
END:DAYLIGHT
BEGIN:STANDARD
TZOFFSETFROM:-0400
TZOFFSETTO:-0500
TZNAME:EST
DTSTART:20251102T060000
END:STANDARD
BEGIN:DAYLIGHT
TZOFFSETFROM:-0500
TZOFFSETTO:-0400
TZNAME:EDT
DTSTART:20260308T070000
END:DAYLIGHT
BEGIN:STANDARD
TZOFFSETFROM:-0400
TZOFFSETTO:-0500
TZNAME:EST
DTSTART:20261101T060000
END:STANDARD
BEGIN:DAYLIGHT
TZOFFSETFROM:-0500
TZOFFSETTO:-0400
TZNAME:EDT
DTSTART:20270314T070000
END:DAYLIGHT
BEGIN:STANDARD
TZOFFSETFROM:-0400
TZOFFSETTO:-0500
TZNAME:EST
DTSTART:20271107T060000
END:STANDARD
END:VTIMEZONE
BEGIN:VEVENT
DTSTART;TZID=America/New_York:20260218T173000
DTEND;TZID=America/New_York:20260218T193000
DTSTAMP:20260425T074033
CREATED:20251219T165115Z
LAST-MODIFIED:20260109T184355Z
UID:10000057-1771435800-1771443000@www.vtaeyc.org
SUMMARY:Bennington Network: CoP: Be Amazing: Tools For Living Inspired!
DESCRIPTION:This Community of Practice is closed to the Bennington Network. To attend this training\, please join the network by emailing Alyson Gryzb and Rebecca Bishop Ware at alyruby@gmail.com and rbishop@ucsvt.org. Not in your area? To find a Vermont Early Childhood Network in your area\, click HERE. \nThis Community of Practice book study is centered on Erin Ramsey’s book “Be Amazing: Tools For Living Inspired!”. Participants will engage in collaborative reading\, reflection\, and discussion to explore key concepts from the text and examine how they apply to real-world professional practice. \nDates & Times: \nJanuary 28\, 2026\,   5:30PM-7:30PM \nFebruary 11\, 2026\,    5:30PM-7:30PM \nFebruary 18\, 2026\,   5:30PM-7:30PM \nTrainer: Laurie Metcalfeu \nLocation: Zoom \nClick Here to Register
URL:https://www.vtaeyc.org/event/cop-be-amazing-tools-for-living-inspired/2026-02-18/
CATEGORIES:Our Programs,Vermont Early Childhood
ATTACH;FMTTYPE=image/jpeg:https://www.vtaeyc.org/wp-content/uploads/2025/12/tushar-ranjan-seth-GqpGd6NtUoI-unsplash-scaled.jpg
END:VEVENT
BEGIN:VEVENT
DTSTART;TZID=America/New_York:20260219T180000
DTEND;TZID=America/New_York:20260219T190000
DTSTAMP:20260425T074033
CREATED:20251219T155623Z
LAST-MODIFIED:20251219T155648Z
UID:10000054-1771524000-1771527600@www.vtaeyc.org
SUMMARY:The Blue Brain - Being Male\, Young & Energetic
DESCRIPTION:Let’s debunk bad science. The male vs. female brain “research” is filled with myths. Most of the differences in development are the result of nurture not nature. This presentation will examine the few innate differences in male and female brains then go on to look at how parents\, peers and society influence the wiring of our most complex system. The program concludes by asking if “Rough and Tumble Play” belongs in childhood and offers time for action steps in addressing the blue brain. \nDates & Time: January 15\, 2026\,  6:00PM-7:00PM \nFebruary 19\, 2026\,  6:00PM-7:00PM \nTrainer: Scott Noyes \nLocation: Zoom \nClick Here to Register
URL:https://www.vtaeyc.org/event/thebluebrain/2026-02-19/
CATEGORIES:Our Programs,Vermont Early Childhood
ATTACH;FMTTYPE=image/jpeg:https://www.vtaeyc.org/wp-content/uploads/2025/12/segun-osunyomi-3BztcJxliEM-unsplash.jpg
END:VEVENT
END:VCALENDAR