BEGIN:VCALENDAR
VERSION:2.0
PRODID:-//VTAEYC - ECPv6.15.11//NONSGML v1.0//EN
CALSCALE:GREGORIAN
METHOD:PUBLISH
X-WR-CALNAME:VTAEYC
X-ORIGINAL-URL:https://www.vtaeyc.org
X-WR-CALDESC:Events for VTAEYC
REFRESH-INTERVAL;VALUE=DURATION:PT1H
X-Robots-Tag:noindex
X-PUBLISHED-TTL:PT1H
BEGIN:VTIMEZONE
TZID:America/New_York
BEGIN:DAYLIGHT
TZOFFSETFROM:-0500
TZOFFSETTO:-0400
TZNAME:EDT
DTSTART:20250309T070000
END:DAYLIGHT
BEGIN:STANDARD
TZOFFSETFROM:-0400
TZOFFSETTO:-0500
TZNAME:EST
DTSTART:20251102T060000
END:STANDARD
BEGIN:DAYLIGHT
TZOFFSETFROM:-0500
TZOFFSETTO:-0400
TZNAME:EDT
DTSTART:20260308T070000
END:DAYLIGHT
BEGIN:STANDARD
TZOFFSETFROM:-0400
TZOFFSETTO:-0500
TZNAME:EST
DTSTART:20261101T060000
END:STANDARD
BEGIN:DAYLIGHT
TZOFFSETFROM:-0500
TZOFFSETTO:-0400
TZNAME:EDT
DTSTART:20270314T070000
END:DAYLIGHT
BEGIN:STANDARD
TZOFFSETFROM:-0400
TZOFFSETTO:-0500
TZNAME:EST
DTSTART:20271107T060000
END:STANDARD
END:VTIMEZONE
BEGIN:VEVENT
DTSTART;TZID=America/New_York:20260128T173000
DTEND;TZID=America/New_York:20260128T193000
DTSTAMP:20260425T093540
CREATED:20251219T165115Z
LAST-MODIFIED:20260109T184355Z
UID:10000055-1769621400-1769628600@www.vtaeyc.org
SUMMARY:Bennington Network: CoP: Be Amazing: Tools For Living Inspired!
DESCRIPTION:This Community of Practice is closed to the Bennington Network. To attend this training\, please join the network by emailing Alyson Gryzb and Rebecca Bishop Ware at alyruby@gmail.com and rbishop@ucsvt.org. Not in your area? To find a Vermont Early Childhood Network in your area\, click HERE. \nThis Community of Practice book study is centered on Erin Ramsey’s book “Be Amazing: Tools For Living Inspired!”. Participants will engage in collaborative reading\, reflection\, and discussion to explore key concepts from the text and examine how they apply to real-world professional practice. \nDates & Times: \nJanuary 28\, 2026\,   5:30PM-7:30PM \nFebruary 11\, 2026\,    5:30PM-7:30PM \nFebruary 18\, 2026\,   5:30PM-7:30PM \nTrainer: Laurie Metcalfeu \nLocation: Zoom \nClick Here to Register
URL:https://www.vtaeyc.org/event/cop-be-amazing-tools-for-living-inspired/2026-01-28/
CATEGORIES:Our Programs,Vermont Early Childhood
ATTACH;FMTTYPE=image/jpeg:https://www.vtaeyc.org/wp-content/uploads/2025/12/tushar-ranjan-seth-GqpGd6NtUoI-unsplash-scaled.jpg
END:VEVENT
BEGIN:VEVENT
DTSTART;TZID=America/New_York:20260207T100000
DTEND;TZID=America/New_York:20260207T141500
DTSTAMP:20260425T093540
CREATED:20260105T161346Z
LAST-MODIFIED:20260106T134401Z
UID:10000060-1770458400-1770473700@www.vtaeyc.org
SUMMARY:Supporting a Culture of Quality Through Strengths Based Communication: Randolph Hub
DESCRIPTION:A thriving community where everyone experiences belonging and mattering is built upon strong communication and fosters authentic relationships. Nurturing a high-quality early childhood environment starts with our everyday interactions. In this session participants will draw from their own experiences and knowledge to make connections among the STARS Elements of Quality. Through lively discussions and activities we will discover how small intentional shifts can create a more collaborative and supportive program culture. Participants should come to the session with a basic understanding of the STARS elements of quality including\, the CLASS tool\, Strengthening Families framework\, and Responsive Practice components. \nThis training is offered through VTAEYC’s Hub and Spoke Model\, a statewide hybrid professional development approach designed to increase access\, connection\, and shared learning. Participants will attend at their closest Spoke site while the main content is livestreamed from a central Hub simultaneously. Each Spoke site will also engage in facilitated discussion\, hands-on activities\, and peer collaboration\, lead by local Quality Support Specialists and Assessors. Lunch will be provided at all sites.  Please select your preferred Spoke site during registration; space is limited to 20–25 participants per site. \nDate & Time: February 7\, 2026\, 10:00AM-2:15PM \nTrainers:  Emily Lambert\, Abby Fish\, Arianna Van Houten \nLocation: Vermont State University Randolph Campus\, 124 Admin Dr\, Randolph Center\, VT 05061 \nClick Here to Register
URL:https://www.vtaeyc.org/event/supporting-a-culture-of-quality-through-strengths-based-communication-randolph-hub/
LOCATION:Vermont State University Randolph Campus\, 124 Admin Drive\, Randolph\, VT\, 05061\, United States
CATEGORIES:Our Programs,Vermont Early Childhood
ATTACH;FMTTYPE=image/jpeg:https://www.vtaeyc.org/wp-content/uploads/2026/01/marisa-howenstine-Cq9slNxV8YU-unsplash-1.jpg
END:VEVENT
BEGIN:VEVENT
DTSTART;TZID=America/New_York:20260207T100000
DTEND;TZID=America/New_York:20260207T141500
DTSTAMP:20260425T093540
CREATED:20260105T161911Z
LAST-MODIFIED:20260106T134348Z
UID:10000061-1770458400-1770473700@www.vtaeyc.org
SUMMARY:Supporting a Culture of Quality Through Strengths Based Communication: Lyndonville Spoke
DESCRIPTION:A thriving community where everyone experiences belonging and mattering is built upon strong communication and fosters authentic relationships. Nurturing a high-quality early childhood environment starts with our everyday interactions. In this session participants will draw from their own experiences and knowledge to make connections among the STARS Elements of Quality. Through lively discussions and activities we will discover how small intentional shifts can create a more collaborative and supportive program culture. Participants should come to the session with a basic understanding of the STARS elements of quality including\, the CLASS tool\, Strengthening Families framework\, and Responsive Practice components. \nThis training is offered through VTAEYC’s Hub and Spoke Model\, a statewide hybrid professional development approach designed to increase access\, connection\, and shared learning. Participants will attend at their closest Spoke site while the main content is livestreamed from a central Hub simultaneously. Each Spoke site will also engage in facilitated discussion\, hands-on activities\, and peer collaboration\, lead by local Quality Support Specialists and Assessors. Lunch will be provided at all sites.  Please select your preferred Spoke site during registration; space is limited to 20–25 participants per site. \nDate & Time: February 7\, 2026\, 10:00AM-2:15PM \nTrainers:  Emily Lambert\, Abby Fish\, Arianna Van Houten \nLocation:  Vermont State University: Lyndon Campus\, 1001 College Rd\, Lyndonville\, VT 05851 \nClick Here to Register
URL:https://www.vtaeyc.org/event/supporting-a-culture-of-quality-through-strengths-based-communication-lyndonville-spoke/
CATEGORIES:Our Programs,Vermont Early Childhood
ATTACH;FMTTYPE=image/jpeg:https://www.vtaeyc.org/wp-content/uploads/2026/01/marisa-howenstine-Cq9slNxV8YU-unsplash-1.jpg
END:VEVENT
BEGIN:VEVENT
DTSTART;TZID=America/New_York:20260207T100000
DTEND;TZID=America/New_York:20260207T141500
DTSTAMP:20260425T093540
CREATED:20260105T162341Z
LAST-MODIFIED:20260106T134336Z
UID:10000062-1770458400-1770473700@www.vtaeyc.org
SUMMARY:Supporting a Culture of Quality Through Strengths Based Communication: Rutland Spoke
DESCRIPTION:A thriving community where everyone experiences belonging and mattering is built upon strong communication and fosters authentic relationships. Nurturing a high-quality early childhood environment starts with our everyday interactions. In this session participants will draw from their own experiences and knowledge to make connections among the STARS Elements of Quality. Through lively discussions and activities we will discover how small intentional shifts can create a more collaborative and supportive program culture. Participants should come to the session with a basic understanding of the STARS elements of quality including\, the CLASS tool\, Strengthening Families framework\, and Responsive Practice components. \nThis training is offered through VTAEYC’s Hub and Spoke Model\, a statewide hybrid professional development approach designed to increase access\, connection\, and shared learning. Participants will attend at their closest Spoke site while the main content is livestreamed from a central Hub simultaneously. Each Spoke site will also engage in facilitated discussion\, hands-on activities\, and peer collaboration\, lead by local Quality Support Specialists and Assessors. Lunch will be provided at all sites.  Please select your preferred Spoke site during registration; space is limited to 20–25 participants per site. \nDate & Time: February 7\, 2026\, 10:00AM-2:15PM \nTrainers:  Emily Lambert\, Abby Fish\, Arianna Van Houten \nLocation:  Noël’s at The Franklin Events Center\, Rutland\, VT \nClick Here to Register
URL:https://www.vtaeyc.org/event/supporting-a-culture-of-quality-through-strengths-based-communication-rutland-spoke/
CATEGORIES:Our Programs,Vermont Early Childhood
ATTACH;FMTTYPE=image/jpeg:https://www.vtaeyc.org/wp-content/uploads/2026/01/marisa-howenstine-Cq9slNxV8YU-unsplash-1.jpg
END:VEVENT
BEGIN:VEVENT
DTSTART;TZID=America/New_York:20260207T100000
DTEND;TZID=America/New_York:20260207T141500
DTSTAMP:20260425T093540
CREATED:20260105T175029Z
LAST-MODIFIED:20260106T134324Z
UID:10000063-1770458400-1770473700@www.vtaeyc.org
SUMMARY:Supporting a Culture of Quality Through Strengths Based Communication: South Burlington Spoke
DESCRIPTION:A thriving community where everyone experiences belonging and mattering is built upon strong communication and fosters authentic relationships. Nurturing a high-quality early childhood environment starts with our everyday interactions. In this session participants will draw from their own experiences and knowledge to make connections among the STARS Elements of Quality. Through lively discussions and activities we will discover how small intentional shifts can create a more collaborative and supportive program culture. Participants should come to the session with a basic understanding of the STARS elements of quality including\, the CLASS tool\, Strengthening Families framework\, and Responsive Practice components. \nThis training is offered through VTAEYC’s Hub and Spoke Model\, a statewide hybrid professional development approach designed to increase access\, connection\, and shared learning. Participants will attend at their closest Spoke site while the main content is livestreamed from a central Hub simultaneously. Each Spoke site will also engage in facilitated discussion\, hands-on activities\, and peer collaboration\, lead by local Quality Support Specialists and Assessors. Lunch will be provided at all sites.  Please select your preferred Spoke site during registration; space is limited to 20–25 participants per site. \nDate & Time: February 7\, 2026\, 10:00AM-2:15PM \nTrainers:  Emily Lambert\, Abby Fish\, Arianna Van Houten \nLocation: Windjammer Restaurant & Upper Deck Pub\, South Burlington\, VT \nClick Here to Register
URL:https://www.vtaeyc.org/event/supporting-a-culture-of-quality-through-strengths-based-communication-south-burlington-spoke/
CATEGORIES:Our Programs,Vermont Early Childhood
ATTACH;FMTTYPE=image/jpeg:https://www.vtaeyc.org/wp-content/uploads/2026/01/marisa-howenstine-Cq9slNxV8YU-unsplash-1.jpg
END:VEVENT
BEGIN:VEVENT
DTSTART;TZID=America/New_York:20260207T100000
DTEND;TZID=America/New_York:20260207T141500
DTSTAMP:20260425T093540
CREATED:20260105T175237Z
LAST-MODIFIED:20260109T190108Z
UID:10000064-1770458400-1770473700@www.vtaeyc.org
SUMMARY:Supporting a Culture of Quality Through Strengths Based Communication: Springfield Spoke
DESCRIPTION:A thriving community where everyone experiences belonging and mattering is built upon strong communication and fosters authentic relationships. Nurturing a high-quality early childhood environment starts with our everyday interactions. In this session participants will draw from their own experiences and knowledge to make connections among the STARS Elements of Quality. Through lively discussions and activities we will discover how small intentional shifts can create a more collaborative and supportive program culture. Participants should come to the session with a basic understanding of the STARS elements of quality including\, the CLASS tool\, Strengthening Families framework\, and Responsive Practice components. \nThis training is offered through VTAEYC’s Hub and Spoke Model\, a statewide hybrid professional development approach designed to increase access\, connection\, and shared learning. Participants will attend at their closest Spoke site while the main content is livestreamed from a central Hub simultaneously. Each Spoke site will also engage in facilitated discussion\, hands-on activities\, and peer collaboration\, lead by local Quality Support Specialists and Assessors. Lunch will be provided at all sites.  Please select your preferred Spoke site during registration; space is limited to 20–25 participants per site. \nDate & Time: February 7\, 2026\, 10:00AM-2:15PM \nTrainers:  Emily Lambert\, Abby Fish\, Arianna Van Houtenson \nLocation:Springfield Area Parent Child Center (SAPCC)\, North Springfield\, VT \nClick Here to Register
URL:https://www.vtaeyc.org/event/supporting-a-culture-of-quality-through-strengths-based-communication-springfield-spoke/
CATEGORIES:Our Programs,Vermont Early Childhood
ATTACH;FMTTYPE=image/jpeg:https://www.vtaeyc.org/wp-content/uploads/2026/01/marisa-howenstine-Cq9slNxV8YU-unsplash-1.jpg
END:VEVENT
BEGIN:VEVENT
DTSTART;TZID=America/New_York:20260209T180000
DTEND;TZID=America/New_York:20260209T190000
DTSTAMP:20260425T093540
CREATED:20260109T184655Z
LAST-MODIFIED:20260109T184655Z
UID:10000066-1770660000-1770663600@www.vtaeyc.org
SUMMARY:Hartford Network: VT Immunization Registry Training
DESCRIPTION:This Community of Practice is closed to the Hartford Network. To attend this training\, please join the network by emailing Tammie Hazlett and Jennifer Tucker at tammieabh@gmail.com and tuckerdjcmt@gmail.com. Not in your area? To find a Vermont Early Childhood Network in your area\, click HERE.\n\nVT Immunization Registry Training\nParticipants will learn how to apply to the VT Immunization Registry for an account\, access required immunization information\, and print out immunization reports for their students.This training series is closed to the Hartford Network. If you are interested in joining the Hartford Network\, please select the appropriate option within the question: “Are you a member of the Hartford Network?” \nDates & Times: February 9\, 2026\, 6:00PM-7:00PM \nTrainer:   Craig Morrill \nLocation: Online – Teams \nClick Here to Register
URL:https://www.vtaeyc.org/event/hartford-network-vt-immunization-registry-training/
CATEGORIES:Our Programs,Vermont Early Childhood
ATTACH;FMTTYPE=image/jpeg:https://www.vtaeyc.org/wp-content/uploads/2026/01/cdc-fx9RJgZYRUE-unsplash.jpg
END:VEVENT
BEGIN:VEVENT
DTSTART;TZID=America/New_York:20260211T173000
DTEND;TZID=America/New_York:20260211T193000
DTSTAMP:20260425T093540
CREATED:20251219T165115Z
LAST-MODIFIED:20260109T184355Z
UID:10000056-1770831000-1770838200@www.vtaeyc.org
SUMMARY:Bennington Network: CoP: Be Amazing: Tools For Living Inspired!
DESCRIPTION:This Community of Practice is closed to the Bennington Network. To attend this training\, please join the network by emailing Alyson Gryzb and Rebecca Bishop Ware at alyruby@gmail.com and rbishop@ucsvt.org. Not in your area? To find a Vermont Early Childhood Network in your area\, click HERE. \nThis Community of Practice book study is centered on Erin Ramsey’s book “Be Amazing: Tools For Living Inspired!”. Participants will engage in collaborative reading\, reflection\, and discussion to explore key concepts from the text and examine how they apply to real-world professional practice. \nDates & Times: \nJanuary 28\, 2026\,   5:30PM-7:30PM \nFebruary 11\, 2026\,    5:30PM-7:30PM \nFebruary 18\, 2026\,   5:30PM-7:30PM \nTrainer: Laurie Metcalfeu \nLocation: Zoom \nClick Here to Register
URL:https://www.vtaeyc.org/event/cop-be-amazing-tools-for-living-inspired/2026-02-11/
CATEGORIES:Our Programs,Vermont Early Childhood
ATTACH;FMTTYPE=image/jpeg:https://www.vtaeyc.org/wp-content/uploads/2025/12/tushar-ranjan-seth-GqpGd6NtUoI-unsplash-scaled.jpg
END:VEVENT
BEGIN:VEVENT
DTSTART;TZID=America/New_York:20260218T173000
DTEND;TZID=America/New_York:20260218T193000
DTSTAMP:20260425T093540
CREATED:20251219T165115Z
LAST-MODIFIED:20260109T184355Z
UID:10000057-1771435800-1771443000@www.vtaeyc.org
SUMMARY:Bennington Network: CoP: Be Amazing: Tools For Living Inspired!
DESCRIPTION:This Community of Practice is closed to the Bennington Network. To attend this training\, please join the network by emailing Alyson Gryzb and Rebecca Bishop Ware at alyruby@gmail.com and rbishop@ucsvt.org. Not in your area? To find a Vermont Early Childhood Network in your area\, click HERE. \nThis Community of Practice book study is centered on Erin Ramsey’s book “Be Amazing: Tools For Living Inspired!”. Participants will engage in collaborative reading\, reflection\, and discussion to explore key concepts from the text and examine how they apply to real-world professional practice. \nDates & Times: \nJanuary 28\, 2026\,   5:30PM-7:30PM \nFebruary 11\, 2026\,    5:30PM-7:30PM \nFebruary 18\, 2026\,   5:30PM-7:30PM \nTrainer: Laurie Metcalfeu \nLocation: Zoom \nClick Here to Register
URL:https://www.vtaeyc.org/event/cop-be-amazing-tools-for-living-inspired/2026-02-18/
CATEGORIES:Our Programs,Vermont Early Childhood
ATTACH;FMTTYPE=image/jpeg:https://www.vtaeyc.org/wp-content/uploads/2025/12/tushar-ranjan-seth-GqpGd6NtUoI-unsplash-scaled.jpg
END:VEVENT
BEGIN:VEVENT
DTSTART;TZID=America/New_York:20260219T180000
DTEND;TZID=America/New_York:20260219T190000
DTSTAMP:20260425T093540
CREATED:20251219T155623Z
LAST-MODIFIED:20251219T155648Z
UID:10000054-1771524000-1771527600@www.vtaeyc.org
SUMMARY:The Blue Brain - Being Male\, Young & Energetic
DESCRIPTION:Let’s debunk bad science. The male vs. female brain “research” is filled with myths. Most of the differences in development are the result of nurture not nature. This presentation will examine the few innate differences in male and female brains then go on to look at how parents\, peers and society influence the wiring of our most complex system. The program concludes by asking if “Rough and Tumble Play” belongs in childhood and offers time for action steps in addressing the blue brain. \nDates & Time: January 15\, 2026\,  6:00PM-7:00PM \nFebruary 19\, 2026\,  6:00PM-7:00PM \nTrainer: Scott Noyes \nLocation: Zoom \nClick Here to Register
URL:https://www.vtaeyc.org/event/thebluebrain/2026-02-19/
CATEGORIES:Our Programs,Vermont Early Childhood
ATTACH;FMTTYPE=image/jpeg:https://www.vtaeyc.org/wp-content/uploads/2025/12/segun-osunyomi-3BztcJxliEM-unsplash.jpg
END:VEVENT
END:VCALENDAR