BEGIN:VCALENDAR
VERSION:2.0
PRODID:-//VTAEYC - ECPv6.15.11//NONSGML v1.0//EN
CALSCALE:GREGORIAN
METHOD:PUBLISH
X-ORIGINAL-URL:https://www.vtaeyc.org
X-WR-CALDESC:Events for VTAEYC
REFRESH-INTERVAL;VALUE=DURATION:PT1H
X-Robots-Tag:noindex
X-PUBLISHED-TTL:PT1H
BEGIN:VTIMEZONE
TZID:America/New_York
BEGIN:DAYLIGHT
TZOFFSETFROM:-0500
TZOFFSETTO:-0400
TZNAME:EDT
DTSTART:20250309T070000
END:DAYLIGHT
BEGIN:STANDARD
TZOFFSETFROM:-0400
TZOFFSETTO:-0500
TZNAME:EST
DTSTART:20251102T060000
END:STANDARD
BEGIN:DAYLIGHT
TZOFFSETFROM:-0500
TZOFFSETTO:-0400
TZNAME:EDT
DTSTART:20260308T070000
END:DAYLIGHT
BEGIN:STANDARD
TZOFFSETFROM:-0400
TZOFFSETTO:-0500
TZNAME:EST
DTSTART:20261101T060000
END:STANDARD
BEGIN:DAYLIGHT
TZOFFSETFROM:-0500
TZOFFSETTO:-0400
TZNAME:EDT
DTSTART:20270314T070000
END:DAYLIGHT
BEGIN:STANDARD
TZOFFSETFROM:-0400
TZOFFSETTO:-0500
TZNAME:EST
DTSTART:20271107T060000
END:STANDARD
END:VTIMEZONE
BEGIN:VEVENT
DTSTART;TZID=America/New_York:20260217T180000
DTEND;TZID=America/New_York:20260217T200000
DTSTAMP:20260424T180459
CREATED:20260126T190110Z
LAST-MODIFIED:20260126T190200Z
UID:10000254-1771351200-1771358400@www.vtaeyc.org
SUMMARY:Burlington South Network Training: Beyond the Bin: Elevating Sensory Stations for Regulation & Readiness
DESCRIPTION:This is a Burlington South Network Training. If you are interested in joining the Burlington South Network or a different Vermont Early Childhood Network\, please select the appropriate option when you register. \nSensory play is more than just scooping and pouring or a messy activity to fill time. When designed intentionally\, a sensory station (or Tuff Tray) becomes a powerful container for self-regulation\, literacy\, and social skills. In this 2-part series\, we will move beyond the basics and explore:\nThe Science of Regulation: How to design sensory invitations that actually calm the nervous system (including heavy work and proprioception).\nLiteracy & Language: Turning a tray into a “Small World” for storytelling and vocabulary development.\nVELS Alignment: How to document the math\, science\, and social skills happening inside the bin. \nDates & Times: February 10\, 2026\, 6:00PM-8:00PM\, In-person Training \nFeb 17th\, 2026\, 6:00PM-8:00PM\, Virtual Follow-up \nTrainer:  Colleen Christman \nLocation: South Burlington\, VT. Exact location shared in confirmation email. \nClick HERE to Register
URL:https://www.vtaeyc.org/event/burlington-south-network-training-beyond-the-bin-elevating-sensory-stations-for-regulation-readiness/2026-02-17/
CATEGORIES:Our Programs
ATTACH;FMTTYPE=image/jpeg:https://www.vtaeyc.org/wp-content/uploads/2026/01/anna-gutierrez-35e92zFXUsc-unsplash-scaled.jpg
END:VEVENT
END:VCALENDAR