BEGIN:VCALENDAR
VERSION:2.0
PRODID:-//VTAEYC - ECPv6.15.11//NONSGML v1.0//EN
CALSCALE:GREGORIAN
METHOD:PUBLISH
X-WR-CALNAME:VTAEYC
X-ORIGINAL-URL:https://www.vtaeyc.org
X-WR-CALDESC:Events for VTAEYC
REFRESH-INTERVAL;VALUE=DURATION:PT1H
X-Robots-Tag:noindex
X-PUBLISHED-TTL:PT1H
BEGIN:VTIMEZONE
TZID:America/New_York
BEGIN:DAYLIGHT
TZOFFSETFROM:-0500
TZOFFSETTO:-0400
TZNAME:EDT
DTSTART:20250309T070000
END:DAYLIGHT
BEGIN:STANDARD
TZOFFSETFROM:-0400
TZOFFSETTO:-0500
TZNAME:EST
DTSTART:20251102T060000
END:STANDARD
BEGIN:DAYLIGHT
TZOFFSETFROM:-0500
TZOFFSETTO:-0400
TZNAME:EDT
DTSTART:20260308T070000
END:DAYLIGHT
BEGIN:STANDARD
TZOFFSETFROM:-0400
TZOFFSETTO:-0500
TZNAME:EST
DTSTART:20261101T060000
END:STANDARD
BEGIN:DAYLIGHT
TZOFFSETFROM:-0500
TZOFFSETTO:-0400
TZNAME:EDT
DTSTART:20270314T070000
END:DAYLIGHT
BEGIN:STANDARD
TZOFFSETFROM:-0400
TZOFFSETTO:-0500
TZNAME:EST
DTSTART:20271107T060000
END:STANDARD
END:VTIMEZONE
BEGIN:VEVENT
DTSTART;TZID=America/New_York:20260514T130000
DTEND;TZID=America/New_York:20260514T140000
DTSTAMP:20260424T193006
CREATED:20251208T190157Z
LAST-MODIFIED:20251208T190158Z
UID:10000011-1778763600-1778767200@www.vtaeyc.org
SUMMARY:Early Childhood Educators: Vermont Department of Health Q&A
DESCRIPTION:Please join us for an hour of conversation with the VT Department of Health. \nAs we continue the partnership between the VDH and leaders of ECE programs\, we will be hosting on-going check-ins offering up-to-date health information and the opportunity to ask questions. \nPlease submit questions ahead of time when you sign up! \nClick HERE to Register \n 
URL:https://www.vtaeyc.org/event/early-childhood-educators-vermont-department-of-health-qa-2-3/
LOCATION:VT
CATEGORIES:CDD and Collaborative Partners
ATTACH;FMTTYPE=image/jpeg:https://www.vtaeyc.org/wp-content/uploads/2025/12/VTDeptHealthImage.jpeg
END:VEVENT
BEGIN:VEVENT
DTSTART;TZID=America/New_York:20260514T180000
DTEND;TZID=America/New_York:20260514T193000
DTSTAMP:20260424T193006
CREATED:20260120T200320Z
LAST-MODIFIED:20260120T203935Z
UID:10000251-1778781600-1778787000@www.vtaeyc.org
SUMMARY:VTAEYC Virtual Policy Committee Meeting
DESCRIPTION:The Policy Committee meets regularly to stay informed and engaged on legislative and policy developments affecting early childhood education. During meetings\, members will receive timely updates on state and federal legislative activity\, proposed policy changes\, and emerging priorities. The committee provides a forum for members to offer feedback on policy proposals\, share perspectives from their programs and communities\, and reflect on how specific policies may impact their work and the children and families they serve. Meetings also include guidance on advocacy opportunities and concrete ways members can take action to support shared legislative priorities. \nThis commitee meets the second Thursday of each month from 6:00PM-7:30 PM. \nDate and Time: February 12\, 2026\, 6:00PM-7:30PM \nMarch 12\, 2026\, 6:00PM-7:30PM \nApril 9\, 2026\, 6:00PM-7:30PM \nMay 14\, 2026\, 6:00PM-7:30PM \nHost: Beth Wallace \nLocation: Zoom \nClick HERE to Join the Committee
URL:https://www.vtaeyc.org/event/vtaeyc-virtual-policy-committee-meeting-2-2-2/2026-05-14/
LOCATION:VT
CATEGORIES:Our Programs
ATTACH;FMTTYPE=image/jpeg:https://www.vtaeyc.org/wp-content/uploads/2026/01/Proud-to-be-an-ECE.jpg
END:VEVENT
BEGIN:VEVENT
DTSTART;TZID=America/New_York:20260514T180000
DTEND;TZID=America/New_York:20260514T193000
DTSTAMP:20260424T193006
CREATED:20260402T173033Z
LAST-MODIFIED:20260402T173033Z
UID:10000290-1778781600-1778787000@www.vtaeyc.org
SUMMARY:NAEYC Quality Assessment & Accreditation System Community of Practice - Recognition Tier (Evening)
DESCRIPTION:NAEYC Accreditation has long set the national standard for high-quality early learning programs. Accreditation signals to families\, educators\, and policymakers that a program prioritizes high-quality learning experiences and continuous improvement.\nNAEYC has redesigned its Quality Assessment & Accreditation System to better support early learning programs on their path to high-quality early education. The Early Learning Program Quality Assessment and Accreditation System now offers a more inclusive\, flexible\, and streamlined model that reflects the realities of today’s early learning landscape. This new system is more accessible to all program types and aligned with best practices.\nPrograms who are interested in diving into the updated NAEYC program standards and aligning their program policies and procedures are invited to join this Community of Practice. Together we will walk through the steps to preparing a NAEYC Recognized application\, the first tier in the new Quality Assessment & Accreditation System. By the end of this CoP\, programs will have a grounded understanding of the baseline value of NAEYC program standards and how building a foundation of quality is essential for high-quality early learning experiences and environments. \nDates & Times: Thursday\, May 14\, 2026\, 6:00PM-7:30PM \nThursday\, June 18\, 2026\, 6:00PM-7:30PM \nThursday\, July 16\, 2026\, 6:00PM-7:30PM \nThursday\, August 6\, 2026\, 6:00PM-7:30PM \nTrainer:  Julie Buechler \nLocation: Zoom \nClick Here to Register
URL:https://www.vtaeyc.org/event/naeyc-quality-assessment-accreditation-system-community-of-practice-recognition-tier-evening/
LOCATION:VT
CATEGORIES:NAEYC,Our Programs
ATTACH;FMTTYPE=image/jpeg:https://www.vtaeyc.org/wp-content/uploads/2026/04/element5-digital-OyCl7Y4y0Bk-unsplash-1-scaled.jpg
END:VEVENT
END:VCALENDAR