BEGIN:VCALENDAR
VERSION:2.0
PRODID:-//VTAEYC - ECPv6.15.11//NONSGML v1.0//EN
CALSCALE:GREGORIAN
METHOD:PUBLISH
X-WR-CALNAME:VTAEYC
X-ORIGINAL-URL:https://www.vtaeyc.org
X-WR-CALDESC:Events for VTAEYC
REFRESH-INTERVAL;VALUE=DURATION:PT1H
X-Robots-Tag:noindex
X-PUBLISHED-TTL:PT1H
BEGIN:VTIMEZONE
TZID:America/New_York
BEGIN:DAYLIGHT
TZOFFSETFROM:-0500
TZOFFSETTO:-0400
TZNAME:EDT
DTSTART:20250309T070000
END:DAYLIGHT
BEGIN:STANDARD
TZOFFSETFROM:-0400
TZOFFSETTO:-0500
TZNAME:EST
DTSTART:20251102T060000
END:STANDARD
BEGIN:DAYLIGHT
TZOFFSETFROM:-0500
TZOFFSETTO:-0400
TZNAME:EDT
DTSTART:20260308T070000
END:DAYLIGHT
BEGIN:STANDARD
TZOFFSETFROM:-0400
TZOFFSETTO:-0500
TZNAME:EST
DTSTART:20261101T060000
END:STANDARD
BEGIN:DAYLIGHT
TZOFFSETFROM:-0500
TZOFFSETTO:-0400
TZNAME:EDT
DTSTART:20270314T070000
END:DAYLIGHT
BEGIN:STANDARD
TZOFFSETFROM:-0400
TZOFFSETTO:-0500
TZNAME:EST
DTSTART:20271107T060000
END:STANDARD
END:VTIMEZONE
BEGIN:VEVENT
DTSTART;TZID=America/New_York:20260210T120000
DTEND;TZID=America/New_York:20260210T133000
DTSTAMP:20260424T205328
CREATED:20260130T184925Z
LAST-MODIFIED:20260202T142825Z
UID:10000256-1770724800-1770730200@www.vtaeyc.org
SUMMARY:Why Recognition Matter and Career Supports
DESCRIPTION:The ECE Profession Bill\, which would establish professional recognition for early childhood educators\, is working its way through Vermont’s Legislature. This professional development workshop provides essential background for early childhood educators who are curious about or just learning about this bill. This series is offered during the day and in the evening\, and all sessions cover the same content. \nParticipants will learn about the field-led initiative that started the conversation\, what to expect during the legislative session\, how educator voices have influenced the bill and can continue to inform the process\, and why professional recognition benefits early childhood educators\, children\, and families. \nThe session will also include information on Career Pathways to Licensure\, exploring how Vermont’s developing pathways connect to the goals of the ECE Profession Bill and support a strong\, professionalized early childhood workforce. \nPresenters will include Rachel Hunter\, Kim Freeman\, Beth Wallace\, and Adiya Kagan (presenter lineup varies by date). \nIf your organization or group would like to request a dedicated presentation on this topic\, please contact Beth Wallace at beth.wallace@vtaeyc.org. \nDate & Time: Tuesday\, February 10\, 2026\, 12:00PM-1:30PM \nTrainer:  Rachel Hunter \nLocation: Zoom \nClick here to register.
URL:https://www.vtaeyc.org/event/why-recognition-2/
LOCATION:VT
CATEGORIES:The ECE Profession
ATTACH;FMTTYPE=image/jpeg:https://www.vtaeyc.org/wp-content/uploads/2026/01/IMG_5484.jpg
END:VEVENT
BEGIN:VEVENT
DTSTART;TZID=America/New_York:20260210T180000
DTEND;TZID=America/New_York:20260210T200000
DTSTAMP:20260424T205328
CREATED:20260126T190110Z
LAST-MODIFIED:20260126T190200Z
UID:10000253-1770746400-1770753600@www.vtaeyc.org
SUMMARY:Burlington South Network Training: Beyond the Bin: Elevating Sensory Stations for Regulation & Readiness
DESCRIPTION:This is a Burlington South Network Training. If you are interested in joining the Burlington South Network or a different Vermont Early Childhood Network\, please select the appropriate option when you register. \nSensory play is more than just scooping and pouring or a messy activity to fill time. When designed intentionally\, a sensory station (or Tuff Tray) becomes a powerful container for self-regulation\, literacy\, and social skills. In this 2-part series\, we will move beyond the basics and explore:\nThe Science of Regulation: How to design sensory invitations that actually calm the nervous system (including heavy work and proprioception).\nLiteracy & Language: Turning a tray into a “Small World” for storytelling and vocabulary development.\nVELS Alignment: How to document the math\, science\, and social skills happening inside the bin. \nDates & Times: February 10\, 2026\, 6:00PM-8:00PM\, In-person Training \nFeb 17th\, 2026\, 6:00PM-8:00PM\, Virtual Follow-up \nTrainer:  Colleen Christman \nLocation: South Burlington\, VT. Exact location shared in confirmation email. \nClick HERE to Register
URL:https://www.vtaeyc.org/event/burlington-south-network-training-beyond-the-bin-elevating-sensory-stations-for-regulation-readiness/2026-02-10/
LOCATION:VT
CATEGORIES:Our Programs
ATTACH;FMTTYPE=image/jpeg:https://www.vtaeyc.org/wp-content/uploads/2026/01/anna-gutierrez-35e92zFXUsc-unsplash-scaled.jpg
END:VEVENT
END:VCALENDAR