BEGIN:VCALENDAR
VERSION:2.0
PRODID:-//VTAEYC - ECPv6.15.11//NONSGML v1.0//EN
CALSCALE:GREGORIAN
METHOD:PUBLISH
X-ORIGINAL-URL:https://www.vtaeyc.org
X-WR-CALDESC:Events for VTAEYC
REFRESH-INTERVAL;VALUE=DURATION:PT1H
X-Robots-Tag:noindex
X-PUBLISHED-TTL:PT1H
BEGIN:VTIMEZONE
TZID:America/New_York
BEGIN:DAYLIGHT
TZOFFSETFROM:-0500
TZOFFSETTO:-0400
TZNAME:EDT
DTSTART:20240310T070000
END:DAYLIGHT
BEGIN:STANDARD
TZOFFSETFROM:-0400
TZOFFSETTO:-0500
TZNAME:EST
DTSTART:20241103T060000
END:STANDARD
BEGIN:DAYLIGHT
TZOFFSETFROM:-0500
TZOFFSETTO:-0400
TZNAME:EDT
DTSTART:20250309T070000
END:DAYLIGHT
BEGIN:STANDARD
TZOFFSETFROM:-0400
TZOFFSETTO:-0500
TZNAME:EST
DTSTART:20251102T060000
END:STANDARD
BEGIN:DAYLIGHT
TZOFFSETFROM:-0500
TZOFFSETTO:-0400
TZNAME:EDT
DTSTART:20260308T070000
END:DAYLIGHT
BEGIN:STANDARD
TZOFFSETFROM:-0400
TZOFFSETTO:-0500
TZNAME:EST
DTSTART:20261101T060000
END:STANDARD
END:VTIMEZONE
BEGIN:VEVENT
DTSTART;TZID=America/New_York:20251213T100000
DTEND;TZID=America/New_York:20251213T130000
DTSTAMP:20260425T001007
CREATED:20251203T151915Z
LAST-MODIFIED:20251203T151915Z
UID:10000002-1765620000-1765630800@www.vtaeyc.org
SUMMARY:Baking with Kids
DESCRIPTION:This workshop offers a chance to explore the fun of baking with children. Members will learn a few easy recipes and practical tips to make baking activities run smoothly\, from setup to cleanup. \nThis training is a closed training to the Washington 2 Network. To attend this training\, please join the network by emailing Alexandria Whitcomb at alexandria.whitcomb@gmail.com \nDate & Time: December 13\, 2025\,  10:00AM-1:00PM \nTrainer:  Bailey McHugh \nLocation: Waterbury\, VT- Exact location shared in confirmation email \nClick Here to Register
URL:https://www.vtaeyc.org/event/baking-with-kids/
LOCATION:VT
CATEGORIES:Our Programs,Vermont Early Childhood
ATTACH;FMTTYPE=image/jpeg:https://www.vtaeyc.org/wp-content/uploads/2025/11/vitaly-gariev-HaGSoMREffI-unsplash-scaled.jpg
END:VEVENT
END:VCALENDAR